BEGIN:VCALENDAR
VERSION:2.0
PRODID:-//SUMURI - ECPv6.15.20//NONSGML v1.0//EN
CALSCALE:GREGORIAN
METHOD:PUBLISH
X-ORIGINAL-URL:https://sumuri.com
X-WR-CALDESC:Events for SUMURI
REFRESH-INTERVAL;VALUE=DURATION:PT1H
X-Robots-Tag:noindex
X-PUBLISHED-TTL:PT1H
BEGIN:VTIMEZONE
TZID:America/New_York
BEGIN:DAYLIGHT
TZOFFSETFROM:-0500
TZOFFSETTO:-0400
TZNAME:EDT
DTSTART:20240310T070000
END:DAYLIGHT
BEGIN:STANDARD
TZOFFSETFROM:-0400
TZOFFSETTO:-0500
TZNAME:EST
DTSTART:20241103T060000
END:STANDARD
BEGIN:DAYLIGHT
TZOFFSETFROM:-0500
TZOFFSETTO:-0400
TZNAME:EDT
DTSTART:20250309T070000
END:DAYLIGHT
BEGIN:STANDARD
TZOFFSETFROM:-0400
TZOFFSETTO:-0500
TZNAME:EST
DTSTART:20251102T060000
END:STANDARD
BEGIN:DAYLIGHT
TZOFFSETFROM:-0500
TZOFFSETTO:-0400
TZNAME:EDT
DTSTART:20260308T070000
END:DAYLIGHT
BEGIN:STANDARD
TZOFFSETFROM:-0400
TZOFFSETTO:-0500
TZNAME:EST
DTSTART:20261101T060000
END:STANDARD
END:VTIMEZONE
BEGIN:VEVENT
DTSTART;VALUE=DATE:20250429
DTEND;VALUE=DATE:20250502
DTSTAMP:20260422T031312
CREATED:20250212T165504Z
LAST-MODIFIED:20250407T152312Z
UID:257082-1745884800-1746143999@sumuri.com
SUMMARY:2025 National Cyber Crime Conference
DESCRIPTION:Celebrate the 15th Anniversary of SUMURI at NCCC 2025 \nJoin SUMURI at the 2025 National Cyber Crime Conference! \nWe’re excited to announce that SUMURI will be participating in the 14th Annual National Cyber Crime Conference (NCCC) from April 29 to May 1\, 2025\, at the Four Points by Sheraton Norwood\, MA. \nAs one of the premier training events for law enforcement\, prosecutors\, and forensic examiners worldwide\, the NCCC offers unparalleled opportunities to learn about the latest trends\, tools\, and techniques in digital evidence and cybercrime investigation.\n		\n				\n					\n				\n				\n									What to Expect:								\n				\n				\n				\n							\n							\n											\n													\n										Expert-led sessions on emerging cybercrime topics\n									\n								\n											\n													\n										Hands-on training in forensic solutions\n									\n								\n											\n													\n										Networking with industry leaders and innovators\n									\n						\n						\n				\n				\n				\n									Visit our booth to see how SUMURI continues to revolutionize forensic solutions with cutting-edge tools and technologies designed to support your mission.								\n				\n				\n				\n									Event Details:								\n				\n				\n				\n							\n							\n											\n													\n										Dates: April 29 – May 1\, 2025\n									\n								\n											\n													\n										Time: 7:30 AM to 5:00 PM EST\n									\n								\n											\n													\n										Location: Four Points by Sheraton Norwood\, MA\n									\n						\n						\n				\n				\n				\n									We can’t wait to meet you and showcase our solutions built to empower your forensic investigations. See you at NCCC 2025!
URL:https://sumuri.com/event/2025-national-cyber-crime-conference/
LOCATION:Four Points by Sheraton Norwood\, 1125 Boston-Providence Turnpike\, Norwood\, MA
CATEGORIES:Conferences
ATTACH;FMTTYPE=image/webp:https://sumuri.com/wp-content/uploads/2025/02/NCCC-Event-Banner-v2.webp
END:VEVENT
BEGIN:VEVENT
DTSTART;VALUE=DATE:20250501
DTEND;VALUE=DATE:20250506
DTSTAMP:20260422T031312
CREATED:20250131T185014Z
LAST-MODIFIED:20250409T152353Z
UID:256437-1746057600-1746489599@sumuri.com
SUMMARY:2025 IACIS Digital Forensics Conference
DESCRIPTION:Join SUMURI at the 2025 IACIS Digital Forensics Conference!\nSUMURI is thrilled to be part of the IACIS (International Association of Computer Investigative Specialists) Digital Forensics Conference — a key event bringing together professionals in the digital forensics field from around the world.\nThe IACIS conference is a vital gathering for those in law enforcement\, cybersecurity\, and digital forensics\, offering cutting-edge training\, collaboration\, and the latest industry insights. This conference plays a crucial role in shaping the future of digital forensics through education\, research\, and industry partnerships.\n		\n				\n					\n				\n				\n									Event Details:								\n				\n				\n				\n							\n							\n											\n													\n										Dates: May 1\, 2 & 5\, 2025\n									\n								\n											\n													\n										Time: 9:00 AM to 5:00 PM EDT\n									\n								\n											\n													\n										Location: Caribe Royale Orlando\, Florida\n									\n						\n						\n				\n				\n				\n									What to Expect:								\n				\n				\n				\n							\n							\n											\n													\n										In-depth training and workshops led by industry experts\n									\n								\n											\n													\n										Networking with top digital forensics specialists\n									\n								\n											\n													\n										Hands-on demonstrations of innovative forensic tools and technologies\n									\n						\n						\n				\n				\n				\n									Visit SUMURI at our booth to discover the latest in digital forensics solutions designed to enhance your investigative capabilities.								\n				\n				\n				\n									We’re looking forward to seeing you at the IACIS 2025 conference\, where we’ll continue to innovate and push the boundaries of digital forensics together!
URL:https://sumuri.com/event/iacis-digital-forensics-conference-2025/
LOCATION:Caribe Royale Hotel\, 8101 World Center Drive\, Orlando \, FL
CATEGORIES:Conferences
ATTACH;FMTTYPE=image/webp:https://sumuri.com/wp-content/uploads/2025/01/IACIS-Event-Featured-Image-v3.webp
END:VEVENT
END:VCALENDAR